BEGIN:VCALENDAR
VERSION:2.0
PRODID:-//A3 Winter League - ECPv6.15.20//NONSGML v1.0//EN
CALSCALE:GREGORIAN
METHOD:PUBLISH
X-WR-CALNAME:A3 Winter League
X-ORIGINAL-URL:http://www.redripple.co.uk/a3sgwl
X-WR-CALDESC:Events for A3 Winter League
REFRESH-INTERVAL;VALUE=DURATION:PT1H
X-Robots-Tag:noindex
X-PUBLISHED-TTL:PT1H
BEGIN:VTIMEZONE
TZID:Europe/London
BEGIN:DAYLIGHT
TZOFFSETFROM:+0000
TZOFFSETTO:+0100
TZNAME:BST
DTSTART:20230326T010000
END:DAYLIGHT
BEGIN:STANDARD
TZOFFSETFROM:+0100
TZOFFSETTO:+0000
TZNAME:GMT
DTSTART:20231029T010000
END:STANDARD
BEGIN:DAYLIGHT
TZOFFSETFROM:+0000
TZOFFSETTO:+0100
TZNAME:BST
DTSTART:20240331T010000
END:DAYLIGHT
BEGIN:STANDARD
TZOFFSETFROM:+0100
TZOFFSETTO:+0000
TZNAME:GMT
DTSTART:20241027T010000
END:STANDARD
BEGIN:DAYLIGHT
TZOFFSETFROM:+0000
TZOFFSETTO:+0100
TZNAME:BST
DTSTART:20250330T010000
END:DAYLIGHT
BEGIN:STANDARD
TZOFFSETFROM:+0100
TZOFFSETTO:+0000
TZNAME:GMT
DTSTART:20251026T010000
END:STANDARD
BEGIN:DAYLIGHT
TZOFFSETFROM:+0000
TZOFFSETTO:+0100
TZNAME:BST
DTSTART:20260329T010000
END:DAYLIGHT
BEGIN:STANDARD
TZOFFSETFROM:+0100
TZOFFSETTO:+0000
TZNAME:GMT
DTSTART:20261025T010000
END:STANDARD
END:VTIMEZONE
BEGIN:VEVENT
DTSTART;TZID=Europe/London:20250325T080000
DTEND;TZID=Europe/London:20250325T170000
DTSTAMP:20260423T204302
CREATED:20241225T191426Z
LAST-MODIFIED:20241225T191426Z
UID:281-1742889600-1742922000@www.redripple.co.uk
SUMMARY:End of Season Presentation
DESCRIPTION:A round of golf\, some food and celebration of 1st winners of the league.
URL:http://www.redripple.co.uk/a3sgwl/event/end-of-season-presentation/
LOCATION:Old Thorns\, Longmoor Road\, Liphook\, Hampshire\, GU30 7PE\, United Kingdom
END:VEVENT
BEGIN:VEVENT
DTSTART;TZID=Europe/London:20250313T100000
DTEND;TZID=Europe/London:20250313T153000
DTSTAMP:20260423T204302
CREATED:20240708T152253Z
LAST-MODIFIED:20241010T081700Z
UID:237-1741860000-1741879800@www.redripple.co.uk
SUMMARY:Hurtmore v Old Thorns
DESCRIPTION:
URL:http://www.redripple.co.uk/a3sgwl/event/old-thorns-v-hurtmore/
LOCATION:Hurtmore\, Hurtmore Road\, Godalming\, GU7 2RN\, United Kingdom
END:VEVENT
BEGIN:VEVENT
DTSTART;TZID=Europe/London:20250226T100000
DTEND;TZID=Europe/London:20250226T150000
DTSTAMP:20260423T204302
CREATED:20240813T123838Z
LAST-MODIFIED:20241010T081734Z
UID:256-1740564000-1740582000@www.redripple.co.uk
SUMMARY:Hurtmore v Milford
DESCRIPTION:
URL:http://www.redripple.co.uk/a3sgwl/event/26th-feb-2025-hurtmore-v-milford/
LOCATION:Milford\, Station Ln\, Milford\, Godalming\, Milford\, GU8 5HS\, United Kingdom
END:VEVENT
BEGIN:VEVENT
DTSTART;TZID=Europe/London:20250127T100000
DTEND;TZID=Europe/London:20250127T150000
DTSTAMP:20260423T204302
CREATED:20240708T153643Z
LAST-MODIFIED:20241001T184903Z
UID:247-1737972000-1737990000@www.redripple.co.uk
SUMMARY:Old Thorns v Milford
DESCRIPTION:Breakfast at 08.30
URL:http://www.redripple.co.uk/a3sgwl/event/old-thorns-v-milford/
LOCATION:Old Thorns\, Longmoor Road\, Liphook\, Hampshire\, GU30 7PE\, United Kingdom
END:VEVENT
BEGIN:VEVENT
DTSTART;TZID=Europe/London:20250117T091600
DTEND;TZID=Europe/London:20250117T143000
DTSTAMP:20260423T204302
CREATED:20240813T124327Z
LAST-MODIFIED:20241001T185133Z
UID:259-1737105360-1737124200@www.redripple.co.uk
SUMMARY:Mildford v Hurtmore
DESCRIPTION:Sandwiches afterwards
URL:http://www.redripple.co.uk/a3sgwl/event/mildford-v-hurtmore/
END:VEVENT
BEGIN:VEVENT
DTSTART;TZID=Europe/London:20241206T091600
DTEND;TZID=Europe/London:20241206T143000
DTSTAMP:20260423T204302
CREATED:20240708T153554Z
LAST-MODIFIED:20241001T185216Z
UID:245-1733476560-1733495400@www.redripple.co.uk
SUMMARY:Milford v Old Thorns
DESCRIPTION:Sandwiches afterwards
URL:http://www.redripple.co.uk/a3sgwl/event/milford-v-old-thorns/
LOCATION:Milford\, Station Ln\, Milford\, Godalming\, Milford\, GU8 5HS\, United Kingdom
END:VEVENT
BEGIN:VEVENT
DTSTART;TZID=Europe/London:20241111T100000
DTEND;TZID=Europe/London:20241111T150000
DTSTAMP:20260423T204302
CREATED:20240628T094341Z
LAST-MODIFIED:20241001T185042Z
UID:84-1731319200-1731337200@www.redripple.co.uk
SUMMARY:Old Thorns v Hurtmore
DESCRIPTION:Breakfast at 08.30
URL:http://www.redripple.co.uk/a3sgwl/event/hurtmore-v-old-thorns/
LOCATION:Old Thorns\, Longmoor Road\, Liphook\, Hampshire\, GU30 7PE\, United Kingdom
ORGANIZER;CN="Derek Smyth":MAILTO:dereksmyth@oldthorns.com,Full Name Job Title Company File As Country/Region Department Business Phone Business Fax Home Phone Mobile Phone Email Categories Derek Smyth Smyth, Derek 01243 920222 07981206640 dereksmyth74@googlemail.com
END:VEVENT
END:VCALENDAR