BEGIN:VCALENDAR
VERSION:2.0
PRODID:-//A3 Winter League - ECPv6.15.20//NONSGML v1.0//EN
CALSCALE:GREGORIAN
METHOD:PUBLISH
X-ORIGINAL-URL:http://www.redripple.co.uk/a3sgwl
X-WR-CALDESC:Events for A3 Winter League
REFRESH-INTERVAL;VALUE=DURATION:PT1H
X-Robots-Tag:noindex
X-PUBLISHED-TTL:PT1H
BEGIN:VTIMEZONE
TZID:Europe/London
BEGIN:DAYLIGHT
TZOFFSETFROM:+0000
TZOFFSETTO:+0100
TZNAME:BST
DTSTART:20240331T010000
END:DAYLIGHT
BEGIN:STANDARD
TZOFFSETFROM:+0100
TZOFFSETTO:+0000
TZNAME:GMT
DTSTART:20241027T010000
END:STANDARD
BEGIN:DAYLIGHT
TZOFFSETFROM:+0000
TZOFFSETTO:+0100
TZNAME:BST
DTSTART:20250330T010000
END:DAYLIGHT
BEGIN:STANDARD
TZOFFSETFROM:+0100
TZOFFSETTO:+0000
TZNAME:GMT
DTSTART:20251026T010000
END:STANDARD
BEGIN:DAYLIGHT
TZOFFSETFROM:+0000
TZOFFSETTO:+0100
TZNAME:BST
DTSTART:20260329T010000
END:DAYLIGHT
BEGIN:STANDARD
TZOFFSETFROM:+0100
TZOFFSETTO:+0000
TZNAME:GMT
DTSTART:20261025T010000
END:STANDARD
END:VTIMEZONE
BEGIN:VEVENT
DTSTART;TZID=Europe/London:20251105T080000
DTEND;TZID=Europe/London:20251105T170000
DTSTAMP:20260423T121108
CREATED:20251003T120433Z
LAST-MODIFIED:20251003T120532Z
UID:354-1762329600-1762362000@www.redripple.co.uk
SUMMARY:Old Thorns v Hurtmore
DESCRIPTION:
URL:http://www.redripple.co.uk/a3sgwl/event/old-thorns-v-hurtmore-2/
LOCATION:Old Thorns\, Longmoor Road\, Liphook\, Hampshire\, GU30 7PE\, United Kingdom
END:VEVENT
BEGIN:VEVENT
DTSTART;TZID=Europe/London:20251110T080000
DTEND;TZID=Europe/London:20251110T170000
DTSTAMP:20260423T121108
CREATED:20251003T132930Z
LAST-MODIFIED:20251003T132930Z
UID:392-1762761600-1762794000@www.redripple.co.uk
SUMMARY:Pyrford v Milford
DESCRIPTION:
URL:http://www.redripple.co.uk/a3sgwl/event/pyrford-v-milford/
LOCATION:Pyrford\, Warren Ln\, Pyrford\, Woking\, GU22 8XR
END:VEVENT
BEGIN:VEVENT
DTSTART;TZID=Europe/London:20251114T080000
DTEND;TZID=Europe/London:20251114T170000
DTSTAMP:20260423T121108
CREATED:20251003T131532Z
LAST-MODIFIED:20251003T131532Z
UID:374-1763107200-1763139600@www.redripple.co.uk
SUMMARY:Milford v Hurtmore
DESCRIPTION:
URL:http://www.redripple.co.uk/a3sgwl/event/milford-v-hurtmore/
LOCATION:Milford\, Station Ln\, Milford\, Godalming\, Milford\, GU8 5HS\, United Kingdom
END:VEVENT
BEGIN:VEVENT
DTSTART;TZID=Europe/London:20251120T080000
DTEND;TZID=Europe/London:20251120T170000
DTSTAMP:20260423T121108
CREATED:20251003T131001Z
LAST-MODIFIED:20251003T131334Z
UID:367-1763625600-1763658000@www.redripple.co.uk
SUMMARY:Hurtmore v Milford
DESCRIPTION:
URL:http://www.redripple.co.uk/a3sgwl/event/hurtmore-v-milford/
LOCATION:Hurtmore\, Hurtmore Road\, Godalming\, GU7 2RN\, United Kingdom
END:VEVENT
BEGIN:VEVENT
DTSTART;TZID=Europe/London:20251124T080000
DTEND;TZID=Europe/London:20251124T170000
DTSTAMP:20260423T121108
CREATED:20251003T132843Z
LAST-MODIFIED:20251003T132843Z
UID:390-1763971200-1764003600@www.redripple.co.uk
SUMMARY:Pryford V Hurtmore
DESCRIPTION:
URL:http://www.redripple.co.uk/a3sgwl/event/pryford-v-hurtmore/
LOCATION:Pyrford\, Warren Ln\, Pyrford\, Woking\, GU22 8XR
END:VEVENT
BEGIN:VEVENT
DTSTART;TZID=Europe/London:20251124T080000
DTEND;TZID=Europe/London:20251124T170000
DTSTAMP:20260423T121108
CREATED:20251003T133450Z
LAST-MODIFIED:20251003T133450Z
UID:404-1763971200-1764003600@www.redripple.co.uk
SUMMARY:Chichester v Old Thorns
DESCRIPTION:
URL:http://www.redripple.co.uk/a3sgwl/event/chichester-v-old-thorns/
LOCATION:Chichester\, Hunston Village\, Chichester PO20 1AX\, PO20 1AX\, United Kingdom
END:VEVENT
END:VCALENDAR