BEGIN:VCALENDAR
VERSION:2.0
PRODID:-//Peripatos GS - ECPv6.15.20//NONSGML v1.0//EN
CALSCALE:GREGORIAN
METHOD:PUBLISH
X-ORIGINAL-URL:http://www.redripple.co.uk/peripatos
X-WR-CALDESC:Events for Peripatos GS
REFRESH-INTERVAL;VALUE=DURATION:PT1H
X-Robots-Tag:noindex
X-PUBLISHED-TTL:PT1H
BEGIN:VTIMEZONE
TZID:Europe/London
BEGIN:DAYLIGHT
TZOFFSETFROM:+0000
TZOFFSETTO:+0100
TZNAME:BST
DTSTART:20220327T010000
END:DAYLIGHT
BEGIN:STANDARD
TZOFFSETFROM:+0100
TZOFFSETTO:+0000
TZNAME:GMT
DTSTART:20221030T010000
END:STANDARD
BEGIN:DAYLIGHT
TZOFFSETFROM:+0000
TZOFFSETTO:+0100
TZNAME:BST
DTSTART:20230326T010000
END:DAYLIGHT
BEGIN:STANDARD
TZOFFSETFROM:+0100
TZOFFSETTO:+0000
TZNAME:GMT
DTSTART:20231029T010000
END:STANDARD
BEGIN:DAYLIGHT
TZOFFSETFROM:+0000
TZOFFSETTO:+0100
TZNAME:BST
DTSTART:20240331T010000
END:DAYLIGHT
BEGIN:STANDARD
TZOFFSETFROM:+0100
TZOFFSETTO:+0000
TZNAME:GMT
DTSTART:20241027T010000
END:STANDARD
END:VTIMEZONE
BEGIN:VEVENT
DTSTART;TZID=Europe/London:20230622T100600
DTEND;TZID=Europe/London:20230622T160000
DTSTAMP:20260425T203653
CREATED:20221204T093309Z
LAST-MODIFIED:20221204T093646Z
UID:1343-1687428360-1687449600@www.redripple.co.uk
SUMMARY:Corhampton
DESCRIPTION:From their website . . . . . \nFounded in 1891 and situated 10 miles south-east of Winchester in southern Hampshire. The condition of the course year on year continues to be described by Members and Visitors as excellent with particular praise for the condition of the greens. \nThe course plays 6378 yards off white tees\, 6082 off yellows and 5788 off reds. A combination of natural contours\, mature woodland and artfully placed bunkers provides a test for low and higher handicappers alike. \nSet in an area of outstanding natural beauty\, Corhampton Golf club offers stunning views across hills\, valleys and woodlands. \nOur 18-hole course is located on chalk foundations\, which means the course drains exceptionally quickly.
URL:http://www.redripple.co.uk/peripatos/event/1343/
LOCATION:Corhampton\, Shepherds Farm Lane\, Southampton\, Hampshire\, SO32 3GZ\, United Kingdom
ORGANIZER;CN="Graham Heath":MAILTO:soperscottage@outlook.com
END:VEVENT
END:VCALENDAR