BEGIN:VCALENDAR
VERSION:2.0
PRODID:-//Peripatos GS - ECPv6.15.20//NONSGML v1.0//EN
CALSCALE:GREGORIAN
METHOD:PUBLISH
X-WR-CALNAME:Peripatos GS
X-ORIGINAL-URL:http://www.redripple.co.uk/peripatos
X-WR-CALDESC:Events for Peripatos GS
REFRESH-INTERVAL;VALUE=DURATION:PT1H
X-Robots-Tag:noindex
X-PUBLISHED-TTL:PT1H
BEGIN:VTIMEZONE
TZID:Europe/London
BEGIN:DAYLIGHT
TZOFFSETFROM:+0000
TZOFFSETTO:+0100
TZNAME:BST
DTSTART:20230326T010000
END:DAYLIGHT
BEGIN:STANDARD
TZOFFSETFROM:+0100
TZOFFSETTO:+0000
TZNAME:GMT
DTSTART:20231029T010000
END:STANDARD
BEGIN:DAYLIGHT
TZOFFSETFROM:+0000
TZOFFSETTO:+0100
TZNAME:BST
DTSTART:20240331T010000
END:DAYLIGHT
BEGIN:STANDARD
TZOFFSETFROM:+0100
TZOFFSETTO:+0000
TZNAME:GMT
DTSTART:20241027T010000
END:STANDARD
BEGIN:DAYLIGHT
TZOFFSETFROM:+0000
TZOFFSETTO:+0100
TZNAME:BST
DTSTART:20250330T010000
END:DAYLIGHT
BEGIN:STANDARD
TZOFFSETFROM:+0100
TZOFFSETTO:+0000
TZNAME:GMT
DTSTART:20251026T010000
END:STANDARD
END:VTIMEZONE
BEGIN:VEVENT
DTSTART;TZID=Europe/London:20240918T110000
DTEND;TZID=Europe/London:20240918T110000
DTSTAMP:20260424T142234
CREATED:20231024T094649Z
LAST-MODIFIED:20231024T094649Z
UID:1478-1726657200-1726657200@www.redripple.co.uk
SUMMARY:Milford
DESCRIPTION:Milford
URL:http://www.redripple.co.uk/peripatos/event/milford-2/
LOCATION:Milford\, Station Lane\, Milford\, Surrey\, GU8 5HS\, United Kingdom
ORGANIZER;CN="Graham Heath":MAILTO:soperscottage@outlook.com
END:VEVENT
END:VCALENDAR