BEGIN:VCALENDAR
VERSION:2.0
PRODID:-//Peripatos GS - ECPv6.15.20//NONSGML v1.0//EN
CALSCALE:GREGORIAN
METHOD:PUBLISH
X-WR-CALNAME:Peripatos GS
X-ORIGINAL-URL:http://www.redripple.co.uk/peripatos
X-WR-CALDESC:Events for Peripatos GS
REFRESH-INTERVAL;VALUE=DURATION:PT1H
X-Robots-Tag:noindex
X-PUBLISHED-TTL:PT1H
BEGIN:VTIMEZONE
TZID:Europe/London
BEGIN:DAYLIGHT
TZOFFSETFROM:+0000
TZOFFSETTO:+0100
TZNAME:BST
DTSTART:20240331T010000
END:DAYLIGHT
BEGIN:STANDARD
TZOFFSETFROM:+0100
TZOFFSETTO:+0000
TZNAME:GMT
DTSTART:20241027T010000
END:STANDARD
BEGIN:DAYLIGHT
TZOFFSETFROM:+0000
TZOFFSETTO:+0100
TZNAME:BST
DTSTART:20250330T010000
END:DAYLIGHT
BEGIN:STANDARD
TZOFFSETFROM:+0100
TZOFFSETTO:+0000
TZNAME:GMT
DTSTART:20251026T010000
END:STANDARD
BEGIN:DAYLIGHT
TZOFFSETFROM:+0000
TZOFFSETTO:+0100
TZNAME:BST
DTSTART:20260329T010000
END:DAYLIGHT
BEGIN:STANDARD
TZOFFSETFROM:+0100
TZOFFSETTO:+0000
TZNAME:GMT
DTSTART:20261025T010000
END:STANDARD
END:VTIMEZONE
BEGIN:VEVENT
DTSTART;TZID=Europe/London:20250528T000000
DTEND;TZID=Europe/London:20250528T173000
DTSTAMP:20260423T234513
CREATED:20241112T110646Z
LAST-MODIFIED:20241112T110646Z
UID:1551-1748390400-1748453400@www.redripple.co.uk
SUMMARY:Tylney Park
DESCRIPTION:Our fourth trip to Tylney Park. A surprisingly quite venue with red kites and large mature trees all around which probably accounts for it being popular. \nPlease consider using the catering before or after your round\, it is a late tee time so its either a late breakfast or early lunch. You using the catering helps me get the booking without organised catering. \n 
URL:http://www.redripple.co.uk/peripatos/event/tylney-park-4/
LOCATION:Tylney Park GC\, Ridge Lane\, Rotherwick\, Hook\, Hampshire\, RG27 9AY\, United Kingdom
ORGANIZER;CN="Graham Heath":MAILTO:soperscottage@outlook.com
END:VEVENT
END:VCALENDAR