BEGIN:VCALENDAR
VERSION:2.0
PRODID:-//Peripatos GS - ECPv6.15.20//NONSGML v1.0//EN
CALSCALE:GREGORIAN
METHOD:PUBLISH
X-ORIGINAL-URL:http://www.redripple.co.uk/peripatos
X-WR-CALDESC:Events for Peripatos GS
REFRESH-INTERVAL;VALUE=DURATION:PT1H
X-Robots-Tag:noindex
X-PUBLISHED-TTL:PT1H
BEGIN:VTIMEZONE
TZID:Europe/London
BEGIN:DAYLIGHT
TZOFFSETFROM:+0000
TZOFFSETTO:+0100
TZNAME:BST
DTSTART:20240331T010000
END:DAYLIGHT
BEGIN:STANDARD
TZOFFSETFROM:+0100
TZOFFSETTO:+0000
TZNAME:GMT
DTSTART:20241027T010000
END:STANDARD
BEGIN:DAYLIGHT
TZOFFSETFROM:+0000
TZOFFSETTO:+0100
TZNAME:BST
DTSTART:20250330T010000
END:DAYLIGHT
BEGIN:STANDARD
TZOFFSETFROM:+0100
TZOFFSETTO:+0000
TZNAME:GMT
DTSTART:20251026T010000
END:STANDARD
BEGIN:DAYLIGHT
TZOFFSETFROM:+0000
TZOFFSETTO:+0100
TZNAME:BST
DTSTART:20260329T010000
END:DAYLIGHT
BEGIN:STANDARD
TZOFFSETFROM:+0100
TZOFFSETTO:+0000
TZNAME:GMT
DTSTART:20261025T010000
END:STANDARD
END:VTIMEZONE
BEGIN:VEVENT
DTSTART;TZID=Europe/London:20250702T103000
DTEND;TZID=Europe/London:20250702T153000
DTSTAMP:20260419T172742
CREATED:20241105T091332Z
LAST-MODIFIED:20241105T093909Z
UID:1539-1751452200-1751470200@www.redripple.co.uk
SUMMARY:Haywards Heath
DESCRIPTION:It is a bit of a journey to Haywards Heath. The course is tree lined and by the time we play it\, it will have dried out. The experience of those that visited on an organisers day in October 2024 could have been better. \nThere is coffee and a bacon roll before the round. \nTee time – 10:30 \nPlayers booked – 20
URL:http://www.redripple.co.uk/peripatos/event/haywards-heath-2/
LOCATION:Haywards Heath\, High Beech Lane\, Lindfield\, Haywards Heath\, West Sussex\, RH16 1SL\, United Kingdom
ORGANIZER;CN="Graham Heath":MAILTO:soperscottage@outlook.com
END:VEVENT
BEGIN:VEVENT
DTSTART;TZID=Europe/London:20250731T100000
DTEND;TZID=Europe/London:20250731T153000
DTSTAMP:20260419T172742
CREATED:20241112T175251Z
LAST-MODIFIED:20241119T093703Z
UID:1558-1753956000-1753975800@www.redripple.co.uk
SUMMARY:Sandford Springs
DESCRIPTION:New for Peripatos this year. At the extreme west of the preferred travel area\, let’s see how it goes.  \nClick here to watch a short video of the facilities at Sandford Springs. \nAs usual no catering organised.  \nFree Wi-Fi is available in the Clubhouse Hotel and The Clock House all complimentary to our visitors. \nThe Clubhouse is open daily for breakfast from 7am followed by morning coffee\, lunches and snacks. \nBooking\nSandford Springs have asked for a £10 deposit for each player. \nThe booking is for 18 – 20 players\, £180 has been paid.  \nThey also want the balance to be paid 2 weeks (originally 1 month) before the day. This means that I (you) will need to confirm your attendance and payment early\, not on the day.  \nI will look to accommodate those that are uncertain until nearer the day but if there are only 16 2 weeks before there will be little to no scope to do that. \n 
URL:http://www.redripple.co.uk/peripatos/event/sandford-springs/
LOCATION:Sandford Springs\, A339\, Kingsclere\, Tadley\, Hampshire\, RG26 5RT\, United Kingdom
ORGANIZER;CN="Graham Heath":MAILTO:soperscottage@outlook.com
END:VEVENT
END:VCALENDAR